OziExplorer Map Data File Version 2.2
k52-011
Y:\ozi_map\work_map\1\k52-011.jpg
1 ,Map Code,
Pulkovo 1942 (1),, 0.0000, 0.0000,WGS 84
Reserved 1
Reserved 2
Magnetic Variation,,,E
Map Projection,Transverse Mercator,PolyCal,Yes,AutoCalOnly,No,BSBUseWPX,No
Point01,xy, 87, 82,ex, deg, 44, 0.0000,N, 131, 0.0000,E, grid, , , ,N
Point02,xy, 1232, 74,in, deg, 44, 0.0000,N, 131, 15.0000,E, grid, , , ,N
Point03,xy, 2419, 71,in, deg, 44, 0.0000,N, 131, 30.0000,E, grid, , , ,N
Point04,xy, 44, 1172,in, deg, 43, 50.0000,N, 131, 0.0000,E, grid, , , ,N
Point05,xy, 1233, 1173,in, deg, 43, 50.0000,N, 131, 15.0000,E, grid, , , ,N
Point06,xy, 2425, 1167,in, deg, 43, 50.0000,N, 131, 30.0000,E, grid, , , ,N
Point07,xy, 35, 2271,in, deg, 43, 40.0000,N, 131, 0.0000,E, grid, , , ,N
Point08,xy, 1232, 2274,in, deg, 43, 40.0000,N, 131, 15.0000,E, grid, , , ,N
Point09,xy, 2428, 2269,in, deg, 43, 40.0000,N, 131, 30.0000,E, grid, , , ,N
Point10,xy, , ,in, deg, , ,, , ,, grid, , , ,N
Point11,xy, , ,in, deg, , ,, , ,, grid, , , ,N
Point12,xy, , ,in, deg, , ,, , ,, grid, , , ,N
Point13,xy, , ,in, deg, , ,, , ,, grid, , , ,N
Point14,xy, , ,in, deg, , ,, , ,, grid, , , ,N
Point15,xy, , ,in, deg, , ,, , ,, grid, , , ,N
Point16,xy, , ,in, deg, , ,, , ,, grid, , , ,N
Point17,xy, , ,in, deg, , ,, , ,, grid, , , ,N
Point18,xy, , ,in, deg, , ,, , ,, grid, , , ,N
Point19,xy, , ,in, deg, , ,, , ,, grid, , , ,N
Point20,xy, , ,in, deg, , ,, , ,, grid, , , ,N
Point21,xy, , ,in, deg, , ,, , ,, grid, , , ,N
Point22,xy, , ,in, deg, , ,, , ,, grid, , , ,N
Point23,xy, , ,in, deg, , ,, , ,, grid, , , ,N
Point24,xy, , ,in, deg, , ,, , ,, grid, , , ,N
Point25,xy, , ,in, deg, , ,, , ,, grid, , , ,N
Point26,xy, , ,in, deg, , ,, , ,, grid, , , ,N
Point27,xy, , ,in, deg, , ,, , ,, grid, , , ,N
Point28,xy, , ,in, deg, , ,, , ,, grid, , , ,N
Point29,xy, , ,in, deg, , ,, , ,, grid, , , ,N
Point30,xy, , ,in, deg, , ,, , ,, grid, , , ,N
Projection Setup, 0.000000000, 129.000000000, 1.000000000, 22500000.00, 0.00,,,,,
Map Feature = MF ; Map Comment = MC These follow if they exist
Track File = TF These follow if they exist
Moving Map Parameters = MM? These follow if they exist
MM0,Yes
MMPNUM,4
MMPXY,1,24,36
MMPXY,2,2421,69
MMPXY,3,2431,2270
MMPXY,4,32,2272
MMPLL,1, 130.994978, 44.005703
MMPLL,2, 131.500504, 44.000164
MMPLL,3, 131.500576, 43.666491
MMPLL,4, 130.999243, 43.666628
MM1B,16.877273
Other Grid Setup
GRGRID,Yes,2 Km,No,16711680,255,2 Km,0,16777215,8,0,Yes,Yes,No,x
MOP,Map Open Position,0,0
IWH,Map Image Width/Height,2500,2350
