OziExplorer Map Data File Version 2.2
k52-012
Y:\ozi_map\work_map\1\k52-012.jpg
1 ,Map Code,
Pulkovo 1942 (1),, 0.0000, 0.0000,WGS 84
Reserved 1
Reserved 2
Magnetic Variation,,,E
Map Projection,Transverse Mercator,PolyCal,Yes,AutoCalOnly,No,BSBUseWPX,No
Point01,xy, 56, 86,in, deg, 44, 0.0000,N, 131, 30.0000,E, grid, , , ,N
Point02,xy, 1207, 83,in, deg, 44, 0.0000,N, 131, 45.0000,E, grid, , , ,N
Point03,xy, 2394, 58,in, deg, 44, 0.0000,N, 132, 0.0000,E, grid, , , ,N
Point04,xy, 52, 1182,in, deg, 43, 50.0000,N, 131, 30.0000,E, grid, , , ,N
Point05,xy, 1228, 1181,in, deg, 43, 50.0000,N, 131, 45.0000,E, grid, , , ,N
Point06,xy, 2419, 1154,in, deg, 43, 50.0000,N, 132, 0.0000,E, grid, , , ,N
Point07,xy, 55, 2278,in, deg, 43, 40.0000,N, 131, 30.0000,E, grid, , , ,N
Point08,xy, 1246, 2265,in, deg, 43, 40.0000,N, 131, 45.0000,E, grid, , , ,N
Point09,xy, 2437, 2248,in, deg, 43, 40.0000,N, 132, 0.0000,E, grid, , , ,N
Point10,xy, , ,in, deg, , ,, , ,, grid, , , ,N
Point11,xy, , ,in, deg, , ,, , ,, grid, , , ,N
Point12,xy, , ,in, deg, , ,, , ,, grid, , , ,N
Point13,xy, , ,in, deg, , ,, , ,, grid, , , ,N
Point14,xy, , ,in, deg, , ,, , ,, grid, , , ,N
Point15,xy, , ,in, deg, , ,, , ,, grid, , , ,N
Point16,xy, , ,in, deg, , ,, , ,, grid, , , ,N
Point17,xy, , ,in, deg, , ,, , ,, grid, , , ,N
Point18,xy, , ,in, deg, , ,, , ,, grid, , , ,N
Point19,xy, , ,in, deg, , ,, , ,, grid, , , ,N
Point20,xy, , ,in, deg, , ,, , ,, grid, , , ,N
Point21,xy, , ,in, deg, , ,, , ,, grid, , , ,N
Point22,xy, , ,in, deg, , ,, , ,, grid, , , ,N
Point23,xy, , ,in, deg, , ,, , ,, grid, , , ,N
Point24,xy, , ,in, deg, , ,, , ,, grid, , , ,N
Point25,xy, , ,in, deg, , ,, , ,, grid, , , ,N
Point26,xy, , ,in, deg, , ,, , ,, grid, , , ,N
Point27,xy, , ,in, deg, , ,, , ,, grid, , , ,N
Point28,xy, , ,in, deg, , ,, , ,, grid, , , ,N
Point29,xy, , ,in, deg, , ,, , ,, grid, , , ,N
Point30,xy, , ,in, deg, , ,, , ,, grid, , , ,N
Projection Setup, 0.000000000, 129.000000000, 1.000000000, 22500000.00, 0.00,,,,,
Map Feature = MF ; Map Comment = MC These follow if they exist
Track File = TF These follow if they exist
Moving Map Parameters = MM? These follow if they exist
MM0,Yes
MMPNUM,4
MMPXY,1,51,83
MMPXY,2,2399,56
MMPXY,3,2438,2252
MMPXY,4,52,2278
MMPLL,1, 131.499868, 44.000551
MMPLL,2, 132.001494, 44.000422
MMPLL,3, 131.999353, 43.665753
MMPLL,4, 131.499008, 43.666301
MM1B,16.999379
Other Grid Setup
GRGRID,Yes,2 Km,No,16711680,255,2 Km,0,16777215,8,0,Yes,Yes,No,x
MOP,Map Open Position,0,0
IWH,Map Image Width/Height,2486,2341
