OziExplorer Map Data File Version 2.2
k52-058
Y:\ozi_map\work_map\1\k52-058.jpg
1 ,Map Code,
Pulkovo 1942 (1),, 0.0000, 0.0000,WGS 84
Reserved 1
Reserved 2
Magnetic Variation,,,E
Map Projection,Transverse Mercator,PolyCal,Yes,AutoCalOnly,No,BSBUseWPX,No
Point01,xy, 67, 81,in, deg, 42, 40.0000,N, 130, 30.0000,E, grid, , , ,N
Point02,xy, 1676, 81,in, deg, 42, 40.0000,N, 130, 45.0000,E, grid, , , ,N
Point03,xy, 3283, 76,in, deg, 42, 40.0000,N, 131, 0.0000,E, grid, , , ,N
Point04,xy, 65, 1544,in, deg, 42, 30.0000,N, 130, 30.0000,E, grid, , , ,N
Point05,xy, 1680, 1545,in, deg, 42, 30.0000,N, 130, 45.0000,E, grid, , , ,N
Point06,xy, 3289, 1538,in, deg, 42, 30.0000,N, 131, 0.0000,E, grid, , , ,N
Point07,xy, 66, 3009,in, deg, 42, 20.0000,N, 130, 30.0000,E, grid, , , ,N
Point08,xy, 1683, 3010,in, deg, 42, 20.0000,N, 130, 45.0000,E, grid, , , ,N
Point09,xy, 3296, 3004,in, deg, 42, 20.0000,N, 131, 0.0000,E, grid, , , ,N
Point10,xy, , ,in, deg, , ,, , ,, grid, , , ,N
Point11,xy, , ,in, deg, , ,, , ,, grid, , , ,N
Point12,xy, , ,in, deg, , ,, , ,, grid, , , ,N
Point13,xy, , ,in, deg, , ,, , ,, grid, , , ,N
Point14,xy, , ,in, deg, , ,, , ,, grid, , , ,N
Point15,xy, , ,in, deg, , ,, , ,, grid, , , ,N
Point16,xy, , ,in, deg, , ,, , ,, grid, , , ,N
Point17,xy, , ,in, deg, , ,, , ,, grid, , , ,N
Point18,xy, , ,in, deg, , ,, , ,, grid, , , ,N
Point19,xy, , ,in, deg, , ,, , ,, grid, , , ,N
Point20,xy, , ,in, deg, , ,, , ,, grid, , , ,N
Point21,xy, , ,in, deg, , ,, , ,, grid, , , ,N
Point22,xy, , ,in, deg, , ,, , ,, grid, , , ,N
Point23,xy, , ,in, deg, , ,, , ,, grid, , , ,N
Point24,xy, , ,in, deg, , ,, , ,, grid, , , ,N
Point25,xy, , ,in, deg, , ,, , ,, grid, , , ,N
Point26,xy, , ,in, deg, , ,, , ,, grid, , , ,N
Point27,xy, , ,in, deg, , ,, , ,, grid, , , ,N
Point28,xy, , ,in, deg, , ,, , ,, grid, , , ,N
Point29,xy, , ,in, deg, , ,, , ,, grid, , , ,N
Point30,xy, , ,in, deg, , ,, , ,, grid, , , ,N
Projection Setup, 0.000000000, 129.000000000, 1.000000000, 22500000.00, 0.00,,,,,
Map Feature = MF ; Map Comment = MC These follow if they exist
Track File = TF These follow if they exist
Moving Map Parameters = MM? These follow if they exist
MM0,Yes
MMPNUM,4
MMPXY,1,64,79
MMPXY,2,3285,73
MMPXY,3,3300,3007
MMPXY,4,64,3010
MMPLL,1, 130.499611, 42.666882
MMPLL,2, 131.000338, 42.666957
MMPLL,3, 131.000593, 42.332977
MMPLL,4, 130.499716, 42.333244
MM1B,12.748690
Other Grid Setup
GRGRID,Yes,2 Km,No,16711680,255,2 Km,0,16777215,8,0,Yes,Yes,No,x
MOP,Map Open Position,0,0
IWH,Map Image Width/Height,3364,3089
