OziExplorer Map Data File Version 2.2
k52-18
Y:\ozi_map\work_map\2\k52-18.jpg
1 ,Map Code,
Pulkovo 1942 (1),, 0.0000, 0.0000,WGS 84
Reserved 1
Reserved 2
Magnetic Variation,,,E
Map Projection,Transverse Mercator,PolyCal,Yes,AutoCalOnly,No,BSBUseWPX,No
Point01,xy, 205, 176,in, deg, 42, 40.0000,N, 131, 0.0000,E, grid, , , ,N
Point02,xy, 2630, 193,in, deg, 42, 40.0000,N, 131, 30.0000,E, grid, , , ,N
Point03,xy, 5056, 192,in, deg, 42, 40.0000,N, 132, 0.0000,E, grid, , , ,N
Point04,xy, 186, 2361,in, deg, 42, 20.0000,N, 131, 0.0000,E, grid, , , ,N
Point05,xy, 2625, 2378,in, deg, 42, 20.0000,N, 131, 30.0000,E, grid, , , ,N
Point06,xy, 5063, 2377,in, deg, 42, 20.0000,N, 132, 0.0000,E, grid, , , ,N
Point07,xy, 169, 4544,in, deg, 42, 0.0000,N, 131, 0.0000,E, grid, , , ,N
Point08,xy, 2619, 4563,in, deg, 42, 0.0000,N, 131, 30.0000,E, grid, , , ,N
Point09,xy, 5070, 4560,in, deg, 42, 0.0000,N, 132, 0.0000,E, grid, , , ,N
Point10,xy, , ,in, deg, , ,, , ,, grid, , , ,N
Point11,xy, , ,in, deg, , ,, , ,, grid, , , ,N
Point12,xy, , ,in, deg, , ,, , ,, grid, , , ,N
Point13,xy, , ,in, deg, , ,, , ,, grid, , , ,N
Point14,xy, , ,in, deg, , ,, , ,, grid, , , ,N
Point15,xy, , ,in, deg, , ,, , ,, grid, , , ,N
Point16,xy, , ,in, deg, , ,, , ,, grid, , , ,N
Point17,xy, , ,in, deg, , ,, , ,, grid, , , ,N
Point18,xy, , ,in, deg, , ,, , ,, grid, , , ,N
Point19,xy, , ,in, deg, , ,, , ,, grid, , , ,N
Point20,xy, , ,in, deg, , ,, , ,, grid, , , ,N
Point21,xy, , ,in, deg, , ,, , ,, grid, , , ,N
Point22,xy, , ,in, deg, , ,, , ,, grid, , , ,N
Point23,xy, , ,in, deg, , ,, , ,, grid, , , ,N
Point24,xy, , ,in, deg, , ,, , ,, grid, , , ,N
Point25,xy, , ,in, deg, , ,, , ,, grid, , , ,N
Point26,xy, , ,in, deg, , ,, , ,, grid, , , ,N
Point27,xy, , ,in, deg, , ,, , ,, grid, , , ,N
Point28,xy, , ,in, deg, , ,, , ,, grid, , , ,N
Point29,xy, , ,in, deg, , ,, , ,, grid, , , ,N
Point30,xy, , ,in, deg, , ,, , ,, grid, , , ,N
Projection Setup, 0.000000000, 129.000000000, 1.000000000, 22500000.00, 0.00,,,,,
Map Feature = MF ; Map Comment = MC These follow if they exist
Track File = TF These follow if they exist
Moving Map Parameters = MM? These follow if they exist
MM0,Yes
MMPNUM,4
MMPXY,1,203,173
MMPXY,2,5059,189
MMPXY,3,5072,4563
MMPXY,4,167,4547
MMPLL,1, 130.999637, 42.667088
MMPLL,2, 132.000611, 42.667089
MMPLL,3, 132.000398, 41.999608
MMPLL,4, 130.999650, 41.999606
MM1B,16.894610
Other Grid Setup
GRGRID,Yes,4 Km,No,16711680,255,4 Km,0,16777215,8,0,Yes,Yes,No,x
MOP,Map Open Position,0,0
IWH,Map Image Width/Height,5243,4744
